BEGIN:VCALENDAR
VERSION:2.0
PRODID:-//hacksw/handcal//NONSGML v1.0//EN
BEGIN:VEVENT
SUMMARY:Stage Club #5 - Les 2 Alpes (4 jours)
UID:203130e1-4e66-432f-b544-affe8cc3c80b
DTSTART:20260610T060000Z
DTEND:20260614T160000Z
LOCATION:Localisation   
CATEGORIES:Sportif
STATUS:
DESCRIPTION:<p>Stage Club #5 - Les 2 Alpes (4 jours de
 ski)</p>
 
 <p>Depart le 10/06 au soir et retour le
 14/06</p>
 
 <p>Matin: 8h - 12h : ski sur le
 glacier</p>
 
 <p>Apres-midi: prepa physique </p>
 
 <p>Hebergement: en
 cours</p>
 
 <p>Tarif: environ 100e par jour</p>
 
 <p>Inscriptions avant
 le 20 Avril pour finaliser les reservations</p>
URL;VALUE=URI:https://www.co7laux-alpin.com/evenements/2026/06/10/stage-club-5-les-2-alpes-4-jours-2439812
END:VEVENT
END:VCALENDAR
